BEGIN:VCALENDAR
VERSION:2.0
PRODID:-//hacksw/handcal//NONSGML v1.0//EN
BEGIN:VEVENT
SUMMARY:Marche Nordique du samedi 2 mai a MIMET
UID:1172f232-bb83-49ad-b221-12b9a3aee0a8
DTSTART:20260502T063000Z
DTEND:20260502T093000Z
LOCATION:Localisation Parking du Col Sainte-Anne 13105 Mimet
CATEGORIES:Sportif
STATUS:
DESCRIPTION:<p><span style="font-size:16px;"><strong>Seance de Marche
 Nordique</strong> <strong>du SAMEDI 2
 mai </strong><strong>a</strong><strong> MIMET</strong></span></p>
 
 <p><span
 style="font-size:14px;"><strong>Animatrice</strong> :
 Marie-Pierre</span></p>
 
 <p><span style="font-size:14px;">Duree de la
 seance, <strong>du parking du col Ste Anne vers Simiane - Les
 Marres</strong> : 2h30 a 3h</span></p>
 
 <p><span
 style="font-size:14px;"><strong>Deroule type d'une seance</strong> :
 echauffements, corps de la seance (marche nordique avec, a
 mi-parcours, perfectionnements techniques et renforcements
 musculaires), etirements</span></p>
 
 <p> </p>
 
 <p><span
 style="font-size:14px;"><strong>RDV covoiturage</strong> a la halte
 routiere de Fuveau <strong>a 8h05</strong></span></p>
 
 <p><span
 style="font-size:14px;">ou</span></p>
 
 <p><span
 style="font-size:14px;"><strong>RDV au depart du
 parcours</strong> sur le parking du Col Sainte-Anne<strong> a
 8h30 </strong>(Coordonnees GPS : N 43.411224°    E
 5.491627°)</span></p>
 
 <p> </p>
 
 <p><span
 style="font-size:14px;">Distance aller voiture : 10
 km</span></p>
 
 <p><span style="font-size:14px;">Covoiturage :
 <strong>1.40 €</strong></span></p>
 
 <p><span
 style="font-size:14px;"><strong>Si vous souhaitez covoiturer
 </strong>a partir de la halte routiere de Fuveau, pensez a vous
 signaler dans les commentaires comme chauffeur et/ou
 passager.</span></p>
 
 <p><span style="font-size:14px;"><strong>Les
 animateurs vous attendront au depart du
 parcours.</strong></span></p>
 
 <p><span
 style="font-size:14px;"><u><strong>Rappels</strong></u><strong>
 :</strong></span></p>
 
 <ul>
 	<li><span
 style="font-size:14px;"><strong>Batons de marche nordique <span
 style="color:#e74c3c;"><u>obligatoires</u>
 </span></strong>(l'association dispose de 10 paires de batons qui
 peuvent etre pretees aux debutants sur les 1eres
 seances)</span></li>
 	<li><span
 style="font-size:14px;"><strong>Chaussures adaptees a la marche
 nordique <u><span
 style="color:#e74c3c;">obligatoires</span></u></strong>  (type
 chaussures de trail)</span></li>
 	<li><span
 style="font-size:14px;"><strong>Vetements chauds et legers
 conseilles, anorak a proscrire</strong></span></li>
 	<li><span
 style="font-size:14px;"><strong>Eau et trousse de pharmacie
 personnelle a prevoir dans un petit sac a
 dos</strong></span></li>
 </ul>
URL;VALUE=URI:https://www.randofuveau.fr/evenements/2026/05/02/marche-nordique-du-samedi-2-mai-a-mimet-2444779
END:VEVENT
END:VCALENDAR
